0.1
0
0
-0.1
602556.043018552
4772030.41917989
