0.1
0
0
-0.1
600868.974882418
4771426.75345776
