0.1
0
0
-0.1
613026.953878836
4702197.87326757
