0.1
0
0
-0.1
613045.761244036
4701041.2596973
