0.1
0
0
-0.1
603939.747304716
4792299.96870114
