0.1
0
0
-0.1
604785.053915027
4792313.03289526
