0.1
0
0
-0.1
607302.593086806
4793509.67048698
