0.1
0
0
-0.1
606466.542446641
4792917.77283935
