0.1
0
0
-0.1
610812.553464748
4733399.55507653
