0.1
0
0
-0.1
610831.176121144
4732242.88382196
