0.1
0
0
-0.1
603772.979373068
4747751.68613696
