0.1
0
0
-0.1
603781.751355773
4747173.32552375
