0.1
0
0
-0.1
603790.522838525
4746594.96440837
