0.1
0
0
-0.1
604641.471794663
4746608.01729355
