0.1
0
0
-0.1
605492.419747227
4746621.07067937
