0.1
0
0
-0.1
606352.351964646
4746055.76768587
