0.1
0
0
-0.1
607203.371714875
4746069.03061739
