0.1
0
0
-0.1
603808.060804269
4745438.24467112
