0.1
0
0
-0.1
606370.307001583
4744899.05091965
