0.1
0
0
-0.1
604676.814940466
4744294.58396077
