0.1
0
0
-0.1
603834.341253536
4743703.17229916
