0.1
0
0
-0.1
604685.646352044
4743716.22574717
