0.1
0
0
-0.1
609802.747070406
4743217.67292906
