0.1
0
0
-0.1
607230.517384735
4744333.95427171
