0.1
0
0
-0.1
608951.366994209
4743204.19740122
