0.1
0
0
-0.1
610948.973030029
4777369.23910723
