0.1
0
0
-0.1
612652.930549064
4776818.63638064
