0.1
0
0
-0.1
610111.214219487
4776776.95079873
