0.1
0
0
-0.1
583141.311718283
4764823.54771948
