0.1
0
0
-0.1
582313.678353941
4763078.12724643
