0.1
0
0
-0.1
583162.562202294
4763088.42234794
