0.1
0
0
-0.1
582277.05768311
4694824.8046495
