0.1
0
0
-0.1
584012.578560976
4693110.36299511
