0.1
0
0
-0.1
584870.084055331
4693120.88551381
