0.1
0
0
-0.1
621575.197319073
4653751.31266508
