0.1
0
0
-0.1
622407.508024788
4655501.01530369
