0.1
0
0
-0.1
623279.813930144
4654937.8607808
