0.1
0
0
-0.1
622427.574358188
4654344.48350557
