0.1
0
0
-0.1
606580.857399739
4675488.40718654
