0.1
0
0
-0.1
606589.649171042
4674910.12714388
