0.1
0
0
-0.1
609819.790257632
4688263.92118313
