0.1
0
0
-0.1
611526.854861847
4688869.3254561
