0.1
0
0
-0.1
608380.688260036
4670310.09812454
