0.1
0
0
-0.1
607555.755812649
4667983.73798163
