0.1
0
0
-0.1
610980.033404539
4669193.8543068
