0.1
0
0
-0.1
604712.122730962
4741981.17821833
