0.1
0
0
-0.1
603869.354418322
4741389.76991822
