0.1
0
0
-0.1
603035.119899662
4740220.24227345
