0.1
0
0
-0.1
603043.797533022
4739641.90371655
