0.1
0
0
-0.1
606433.098583461
4740850.61055702
